BEGIN:VCALENDAR
VERSION:2.0
PRODID:-//Community Choice Credit Union - ECPv6.15.2//NONSGML v1.0//EN
CALSCALE:GREGORIAN
METHOD:PUBLISH
X-WR-CALNAME:Community Choice Credit Union
X-ORIGINAL-URL:https://www.communitychoicecu.com
X-WR-CALDESC:Events for Community Choice Credit Union
REFRESH-INTERVAL;VALUE=DURATION:PT1H
X-Robots-Tag:noindex
X-PUBLISHED-TTL:PT1H
BEGIN:VTIMEZONE
TZID:America/Detroit
BEGIN:DAYLIGHT
TZOFFSETFROM:-0500
TZOFFSETTO:-0400
TZNAME:EDT
DTSTART:20250309T070000
END:DAYLIGHT
BEGIN:STANDARD
TZOFFSETFROM:-0400
TZOFFSETTO:-0500
TZNAME:EST
DTSTART:20251102T060000
END:STANDARD
END:VTIMEZONE
BEGIN:VTIMEZONE
TZID:America/New_York
BEGIN:DAYLIGHT
TZOFFSETFROM:-0500
TZOFFSETTO:-0400
TZNAME:EDT
DTSTART:20250309T070000
END:DAYLIGHT
BEGIN:STANDARD
TZOFFSETFROM:-0400
TZOFFSETTO:-0500
TZNAME:EST
DTSTART:20251102T060000
END:STANDARD
END:VTIMEZONE
BEGIN:VEVENT
DTSTART;TZID=America/Detroit:20251112T000000
DTEND;TZID=America/Detroit:20251212T233000
DTSTAMP:20260424T084906
CREATED:20251106T135655Z
LAST-MODIFIED:20251112T180337Z
UID:10000405-1762905600-1765582200@www.communitychoicecu.com
SUMMARY:PJs & Pajamas Holiday Drive
DESCRIPTION:PJs & Pajamas Holiday Drive\nJoin us in making bedtime brighter!\nNovember 12 – December 12\, the Community Choice Foundation is collecting new children’s pajamas and new children’s books to share warmth and stories with families across Michigan. Donations collected across Michigan will be delivered to these local partners before Christmas to help make bedtime brighter for kids in need. \nProudly partnering with local nonprofits:\nMuskegon – Embrace Books\nMetro Detroit – Making Spirits Bright\nHolland – Hope Pkgs\nJackson – Family Service and Children’s Aid \n  \nDrop off your donation at any Community Choice Member Center:\nLocations\n  \nRather have us do the shopping? Donate online\, and we’ll ensure every dollar goes toward new books and pajamas.\nDonate securely now
URL:https://www.communitychoicecu.com/community-event/pjs-pajamas-holiday-drive/
ATTACH;FMTTYPE=image/png:https://www.communitychoicecu.com/wp-content/uploads/2025/11/Page-Pic.webp
END:VEVENT
BEGIN:VEVENT
DTSTART;TZID=America/New_York:20251127T080000
DTEND;TZID=America/New_York:20251127T170000
DTSTAMP:20260424T084906
CREATED:20250703T163352Z
LAST-MODIFIED:20250703T164146Z
UID:10000015-1764230400-1764262800@www.communitychoicecu.com
SUMMARY:Closed for Thanksgiving
DESCRIPTION:We’re counting our blessings on November 28th—our member centers will be closed for Thanksgiving.
URL:https://www.communitychoicecu.com/community-event/closed-for-thanksgiving/
END:VEVENT
END:VCALENDAR