BEGIN:VCALENDAR
VERSION:2.0
PRODID:-//Community Choice Credit Union - ECPv6.15.2//NONSGML v1.0//EN
CALSCALE:GREGORIAN
METHOD:PUBLISH
X-WR-CALNAME:Community Choice Credit Union
X-ORIGINAL-URL:https://www.communitychoicecu.com
X-WR-CALDESC:Events for Community Choice Credit Union
REFRESH-INTERVAL;VALUE=DURATION:PT1H
X-Robots-Tag:noindex
X-PUBLISHED-TTL:PT1H
BEGIN:VTIMEZONE
TZID:America/Detroit
BEGIN:DAYLIGHT
TZOFFSETFROM:-0500
TZOFFSETTO:-0400
TZNAME:EDT
DTSTART:20260308T070000
END:DAYLIGHT
BEGIN:STANDARD
TZOFFSETFROM:-0400
TZOFFSETTO:-0500
TZNAME:EST
DTSTART:20261101T060000
END:STANDARD
END:VTIMEZONE
BEGIN:VEVENT
DTSTART;TZID=America/Detroit:20260408T140000
DTEND;TZID=America/Detroit:20260408T144500
DTSTAMP:20260424T065029
CREATED:20260320T202724Z
LAST-MODIFIED:20260320T203836Z
UID:10000428-1775656800-1775659500@www.communitychoicecu.com
SUMMARY:Webinar: The Magic of the Debt Management Program - Greenpath Financial Wellness
DESCRIPTION:Join Community Choice and GreenPath for this webinar to learn about the power of the Debt Management Program and how connecting someone to it can transform their financial future.\n \nREGISTER NOW\n 
URL:https://www.communitychoicecu.com/community-event/magic-of-debt-management-webinar/
CATEGORIES:Financial Education,Webinars
ATTACH;FMTTYPE=image/jpeg:https://www.communitychoicecu.com/wp-content/uploads/2026/03/The-Magic-of-Debt-Management-Program_Graphic_No-Copy-e1774039102273.webp
LOCATION:https://www.communitychoicecu.com/community-event/magic-of-debt-management-webinar/
END:VEVENT
BEGIN:VEVENT
DTSTART;TZID=America/Detroit:20260304T140000
DTEND;TZID=America/Detroit:20260304T144500
DTSTAMP:20260424T065029
CREATED:20260217T205034Z
LAST-MODIFIED:20260223T164338Z
UID:10000425-1772632800-1772635500@www.communitychoicecu.com
SUMMARY:Webinar: Strategies for Successful Saving
DESCRIPTION:Do your financial goals include saving more money? Whether it’s for emergencies or goals\, many of us would like to put more money aside every month. Join our friends at GreenPath to learn how to build a savings plan you can be successful with! \nREGISTER NOW
URL:https://www.communitychoicecu.com/community-event/webinar-strategies-for-successful-saving/
CATEGORIES:Financial Education
ATTACH;FMTTYPE=image/png:https://www.communitychoicecu.com/wp-content/uploads/2026/02/STRATE1.webp
LOCATION:https://www.communitychoicecu.com/community-event/webinar-strategies-for-successful-saving/
END:VEVENT
BEGIN:VEVENT
DTSTART;TZID=America/Detroit:20260211T140000
DTEND;TZID=America/Detroit:20260211T150000
DTSTAMP:20260424T065029
CREATED:20260113T170037Z
LAST-MODIFIED:20260114T235802Z
UID:10000411-1770818400-1770822000@www.communitychoicecu.com
SUMMARY:Webinar: Gaining Control of Your Spending - Greenpath Financial Wellness
DESCRIPTION:REGISTER NOW\n  \nJoin us for an engaging session designed to help you take control of your financial future. In this webinar\, we will explore the main influences on spending and how behavioral economics impacts the choices we make every day. You will gain practical insights into money management strategies and learn actionable tips for changing spending habits to achieve your goals. We will also share how GreenPath\, a trusted resource for financial counseling and education\, can support you on your journey toward financial well-being.
URL:https://www.communitychoicecu.com/community-event/gaining-control-of-your-spending/
CATEGORIES:Financial Education
ATTACH;FMTTYPE=image/png:https://www.communitychoicecu.com/wp-content/uploads/2026/01/Gaining-Control-of-Your-Spending_Webinar-Graphic_Events-Calendar.webp
END:VEVENT
BEGIN:VEVENT
DTSTART;TZID=America/Detroit:20260121T150000
DTEND;TZID=America/Detroit:20260121T160000
DTSTAMP:20260424T065029
CREATED:20260113T163524Z
LAST-MODIFIED:20260114T235841Z
UID:10000410-1769007600-1769011200@www.communitychoicecu.com
SUMMARY:Webinar: Setting and Reaching Financial Goals in 2026 - Greenpath Financial Wellness
DESCRIPTION:REGISTER NOW\n  \nSetting financial goals is one thing\, reaching them is another – especially when “life happens!” Join us for a workshop to learn how to be sure the financial goals you are setting are realistic and achievable\, how to be prepared for what may attempt to derail your progress\, and strategies to keep you moving forward.
URL:https://www.communitychoicecu.com/community-event/webinar-setting-and-reaching-financial-goals/
CATEGORIES:Financial Education
ATTACH;FMTTYPE=image/png:https://www.communitychoicecu.com/wp-content/uploads/2026/01/Setting-and-Reaching-Financial-Goals-in-2026_Webinar-Graphic.webp
END:VEVENT
END:VCALENDAR