BEGIN:VCALENDAR
VERSION:2.0
PRODID:-//Community Choice Credit Union - ECPv6.15.2//NONSGML v1.0//EN
CALSCALE:GREGORIAN
METHOD:PUBLISH
X-ORIGINAL-URL:https://www.communitychoicecu.com
X-WR-CALDESC:Events for Community Choice Credit Union
REFRESH-INTERVAL;VALUE=DURATION:PT1H
X-Robots-Tag:noindex
X-PUBLISHED-TTL:PT1H
BEGIN:VTIMEZONE
TZID:America/Detroit
BEGIN:DAYLIGHT
TZOFFSETFROM:-0500
TZOFFSETTO:-0400
TZNAME:EDT
DTSTART:20250309T070000
END:DAYLIGHT
BEGIN:STANDARD
TZOFFSETFROM:-0400
TZOFFSETTO:-0500
TZNAME:EST
DTSTART:20251102T060000
END:STANDARD
END:VTIMEZONE
BEGIN:VEVENT
DTSTART;TZID=America/Detroit:20250719T100000
DTEND;TZID=America/Detroit:20250719T200000
DTSTAMP:20260420T174205
CREATED:20250710T132318Z
LAST-MODIFIED:20250710T132318Z
UID:10000390-1752919200-1752955200@www.communitychoicecu.com
SUMMARY:Cake Pops + Photo-Ops!  Ann Arbor Art Fair
DESCRIPTION:Join us at the Ann Arbor Art Fair on July 19 from 10 a.m. to 8 p.m.! Find the Community Choice Credit Union booth and enjoy a delicious cake pop. Hope to see you there!
URL:https://www.communitychoicecu.com/community-event/cake-pops-photo-ops-ann-arbor/
LOCATION:Ann Arbor Art Fair\, Ann Arbor\, MI\, United States
CATEGORIES:Community Appreciation
ATTACH;FMTTYPE=image/png:https://www.communitychoicecu.com/wp-content/uploads/2025/07/Ann-Arbor-png.avif
END:VEVENT
END:VCALENDAR